Package: MesKit Version: 1.21.0 Maintainer: Mengni Liu MaintainerEmail: niinleslie at gmail.com git_url: https://git.bioconductor.org/packages/MesKit git_branch: devel git_last_commit: 15660f6 git_last_commit_date: 2025-10-29 11:01:00 -0500 (Wed, 29 Oct 2025)