Package: Mergeomics Version: 1.39.0 Command: /home/biocbuild/bbs-3.23-bioc/R/bin/R CMD build --keep-empty-dirs --no-resave-data Mergeomics StartedAt: 2025-11-13 18:29:44 -0500 (Thu, 13 Nov 2025) EndedAt: 2025-11-13 18:35:11 -0500 (Thu, 13 Nov 2025) EllapsedTime: 327.3 seconds RetCode: 0 Status: OK PackageFile: Mergeomics_1.39.0.tar.gz PackageFileSize: 3.204 MiB