Package: Mergeomics Version: 1.39.0 Command: /Library/Frameworks/R.framework/Resources/bin/R CMD INSTALL Mergeomics StartedAt: 2025-11-13 15:01:18 -0500 (Thu, 13 Nov 2025) EndedAt: 2025-11-13 15:01:22 -0500 (Thu, 13 Nov 2025) EllapsedTime: 3.6 seconds RetCode: 0 Status: OK