Package: Mergeomics Version: 1.39.0 Command: /Library/Frameworks/R.framework/Resources/bin/R CMD build --keep-empty-dirs --no-resave-data Mergeomics StartedAt: 2025-11-14 16:52:18 -0500 (Fri, 14 Nov 2025) EndedAt: 2025-11-14 16:54:49 -0500 (Fri, 14 Nov 2025) EllapsedTime: 150.7 seconds RetCode: 0 Status: OK PackageFile: Mergeomics_1.39.0.tar.gz PackageFileSize: 3.203 MiB