Package: Mergeomics Version: 1.39.0 Command: rm -rf Mergeomics.buildbin-libdir && mkdir Mergeomics.buildbin-libdir && /Users/biocbuild/BBS/utils/build-universal.sh Mergeomics_1.39.0.tar.gz /Library/Frameworks/R.framework/Resources/bin/R Mergeomics.buildbin-libdir StartedAt: 2025-11-13 23:44:20 -0500 (Thu, 13 Nov 2025) EndedAt: 2025-11-13 23:44:24 -0500 (Thu, 13 Nov 2025) EllapsedTime: 4.1 seconds RetCode: 0 Status: OK PackageFile: Mergeomics_1.39.0.tgz PackageFileSize: 3.425 MiB