Package: Mergeomics Version: 1.39.0 Maintainer: Zeyneb Kurt MaintainerEmail: zeynebkurt at gmail.com git_url: https://git.bioconductor.org/packages/Mergeomics git_branch: devel git_last_commit: 5d079fe git_last_commit_date: 2025-10-29 10:29:54 -0500 (Wed, 29 Oct 2025)