Package: MeasurementError.cor Version: 1.83.0 Command: /home/biocbuild/bbs-3.23-bioc/R/bin/R CMD INSTALL MeasurementError.cor StartedAt: 2025-11-13 15:02:52 -0500 (Thu, 13 Nov 2025) EndedAt: 2025-11-13 15:03:02 -0500 (Thu, 13 Nov 2025) EllapsedTime: 10.1 seconds RetCode: 0 Status: OK