Package: MeasurementError.cor Version: 1.83.0 Command: /Library/Frameworks/R.framework/Resources/bin/R CMD build --keep-empty-dirs --no-resave-data MeasurementError.cor StartedAt: 2025-11-12 16:39:25 -0500 (Wed, 12 Nov 2025) EndedAt: 2025-11-12 16:39:30 -0500 (Wed, 12 Nov 2025) EllapsedTime: 5.1 seconds RetCode: 0 Status: OK PackageFile: MeasurementError.cor_1.83.0.tar.gz PackageFileSize: 150.7 KiB