Package: MeasurementError.cor Version: 1.83.0 Command: rm -rf MeasurementError.cor.buildbin-libdir && mkdir MeasurementError.cor.buildbin-libdir && /Users/biocbuild/BBS/utils/build-universal.sh MeasurementError.cor_1.83.0.tar.gz /Library/Frameworks/R.framework/Resources/bin/R MeasurementError.cor.buildbin-libdir StartedAt: 2025-11-13 23:44:14 -0500 (Thu, 13 Nov 2025) EndedAt: 2025-11-13 23:44:16 -0500 (Thu, 13 Nov 2025) EllapsedTime: 2.0 seconds RetCode: 0 Status: OK PackageFile: MeasurementError.cor_1.83.0.tgz PackageFileSize: 174.1 KiB