Package: MeasurementError.cor Version: 1.83.0 Maintainer: Beiying Ding MaintainerEmail: bding at amgen.com git_url: https://git.bioconductor.org/packages/MeasurementError.cor git_branch: devel git_last_commit: 5d8e435 git_last_commit_date: 2025-10-29 09:53:50 -0500 (Wed, 29 Oct 2025)