Package: MeSHDbi Version: 1.47.0 Command: /home/biocbuild/bbs-3.23-bioc/R/bin/R CMD INSTALL MeSHDbi StartedAt: 2025-11-14 15:30:52 -0500 (Fri, 14 Nov 2025) EndedAt: 2025-11-14 15:31:04 -0500 (Fri, 14 Nov 2025) EllapsedTime: 11.9 seconds RetCode: 0 Status: OK