Package: MeSHDbi Version: 1.47.0 Maintainer: Koki Tsuyuzaki MaintainerEmail: k.t.the-answer at hotmail.co.jp git_url: https://git.bioconductor.org/packages/MeSHDbi git_branch: devel git_last_commit: 1fa151c git_last_commit_date: 2025-10-29 10:19:20 -0500 (Wed, 29 Oct 2025)