Package: MatrixRider Version: 1.43.0 Command: /Library/Frameworks/R.framework/Resources/bin/R CMD INSTALL MatrixRider StartedAt: 2025-11-13 15:28:52 -0500 (Thu, 13 Nov 2025) EndedAt: 2025-11-13 15:29:07 -0500 (Thu, 13 Nov 2025) EllapsedTime: 15.5 seconds RetCode: 0 Status: OK