Package: MatrixRider Version: 1.43.0 Command: /Library/Frameworks/R.framework/Resources/bin/R CMD build --keep-empty-dirs --no-resave-data MatrixRider StartedAt: 2025-11-13 16:54:04 -0500 (Thu, 13 Nov 2025) EndedAt: 2025-11-13 16:54:28 -0500 (Thu, 13 Nov 2025) EllapsedTime: 24.2 seconds RetCode: 0 Status: OK PackageFile: MatrixRider_1.43.0.tar.gz PackageFileSize: 264.1 KiB