Package: MatrixQCvis Version: 1.19.0 Command: /home/biocbuild/bbs-3.23-bioc/R/bin/R CMD INSTALL MatrixQCvis StartedAt: 2025-11-14 15:37:30 -0500 (Fri, 14 Nov 2025) EndedAt: 2025-11-14 15:38:11 -0500 (Fri, 14 Nov 2025) EllapsedTime: 40.3 seconds RetCode: 0 Status: OK