Package: MatrixQCvis Version: 1.19.0 Command: /home/biocbuild/bbs-3.23-bioc/R/bin/R CMD build --keep-empty-dirs --no-resave-data MatrixQCvis StartedAt: 2025-11-13 18:26:31 -0500 (Thu, 13 Nov 2025) EndedAt: 2025-11-13 18:29:10 -0500 (Thu, 13 Nov 2025) EllapsedTime: 159.1 seconds RetCode: 0 Status: OK PackageFile: MatrixQCvis_1.19.0.tar.gz PackageFileSize: 4.781 MiB