Package: MatrixQCvis Version: 1.19.0 Command: /Library/Frameworks/R.framework/Resources/bin/R CMD INSTALL MatrixQCvis StartedAt: 2025-11-12 15:36:45 -0500 (Wed, 12 Nov 2025) EndedAt: 2025-11-12 15:36:46 -0500 (Wed, 12 Nov 2025) EllapsedTime: 0.2 seconds RetCode: 1 Status: ERROR