Package: MatrixQCvis Version: 1.19.0 Command: /Library/Frameworks/R.framework/Resources/bin/R CMD build --keep-empty-dirs --no-resave-data MatrixQCvis StartedAt: 2025-11-12 16:38:35 -0500 (Wed, 12 Nov 2025) EndedAt: 2025-11-12 16:38:37 -0500 (Wed, 12 Nov 2025) EllapsedTime: 1.0 seconds RetCode: 1 Status: ERROR PackageFile: None PackageFileSize: NA