Package: MatrixQCvis Version: 1.19.0 Maintainer: Thomas Naake MaintainerEmail: thomasnaake at googlemail.com git_url: https://git.bioconductor.org/packages/MatrixQCvis git_branch: devel git_last_commit: 0b99d49 git_last_commit_date: 2025-10-29 11:09:24 -0500 (Wed, 29 Oct 2025)