Package: MatrixGenerics Version: 1.23.0 Command: /home/biocbuild/bbs-3.23-bioc/R/bin/R CMD INSTALL MatrixGenerics StartedAt: 2025-11-13 15:03:59 -0500 (Thu, 13 Nov 2025) EndedAt: 2025-11-13 15:04:17 -0500 (Thu, 13 Nov 2025) EllapsedTime: 18.6 seconds RetCode: 0 Status: OK