Package: MassSpecWavelet Version: 1.77.0 Command: /home/biocbuild/bbs-3.23-bioc/R/bin/R CMD INSTALL MassSpecWavelet StartedAt: 2025-11-11 15:06:01 -0500 (Tue, 11 Nov 2025) EndedAt: 2025-11-11 15:06:15 -0500 (Tue, 11 Nov 2025) EllapsedTime: 13.5 seconds RetCode: 0 Status: OK