Package: MassSpecWavelet Version: 1.77.0 Command: /Library/Frameworks/R.framework/Resources/bin/R CMD build --keep-empty-dirs --no-resave-data MassSpecWavelet StartedAt: 2025-11-13 16:53:31 -0500 (Thu, 13 Nov 2025) EndedAt: 2025-11-13 16:54:04 -0500 (Thu, 13 Nov 2025) EllapsedTime: 33.4 seconds RetCode: 0 Status: OK PackageFile: MassSpecWavelet_1.77.0.tar.gz PackageFileSize: 2.09 MiB