Package: MassSpecWavelet Version: 1.77.0 Command: rm -rf MassSpecWavelet.buildbin-libdir && mkdir MassSpecWavelet.buildbin-libdir && /Users/biocbuild/BBS/utils/build-universal.sh MassSpecWavelet_1.77.0.tar.gz /Library/Frameworks/R.framework/Resources/bin/R MassSpecWavelet.buildbin-libdir StartedAt: 2025-11-13 23:43:58 -0500 (Thu, 13 Nov 2025) EndedAt: 2025-11-13 23:44:01 -0500 (Thu, 13 Nov 2025) EllapsedTime: 3.1 seconds RetCode: 0 Status: OK PackageFile: MassSpecWavelet_1.77.0.tgz PackageFileSize: 2.177 MiB