Package: MassSpecWavelet Version: 1.77.0 Maintainer: Sergio Oller Moreno MaintainerEmail: sergioller at gmail.com git_url: https://git.bioconductor.org/packages/MassSpecWavelet git_branch: devel git_last_commit: 0fdc2a4 git_last_commit_date: 2025-10-29 09:59:19 -0500 (Wed, 29 Oct 2025)