Package: MassArray Version: 1.63.0 Command: /home/biocbuild/bbs-3.23-bioc/R/bin/R CMD INSTALL MassArray StartedAt: 2025-11-13 15:02:23 -0500 (Thu, 13 Nov 2025) EndedAt: 2025-11-13 15:02:35 -0500 (Thu, 13 Nov 2025) EllapsedTime: 12.1 seconds RetCode: 0 Status: OK