Package: MassArray Version: 1.63.0 Command: /home/biocbuild/bbs-3.23-bioc/R/bin/R CMD build --keep-empty-dirs --no-resave-data MassArray StartedAt: 2025-11-13 18:25:58 -0500 (Thu, 13 Nov 2025) EndedAt: 2025-11-13 18:26:21 -0500 (Thu, 13 Nov 2025) EllapsedTime: 23.0 seconds RetCode: 0 Status: OK PackageFile: MassArray_1.63.0.tar.gz PackageFileSize: 375.1 KiB