Package: MassArray Version: 1.63.0 Command: /Library/Frameworks/R.framework/Resources/bin/R CMD INSTALL MassArray StartedAt: 2025-11-14 15:02:02 -0500 (Fri, 14 Nov 2025) EndedAt: 2025-11-14 15:02:04 -0500 (Fri, 14 Nov 2025) EllapsedTime: 2.4 seconds RetCode: 0 Status: OK