Package: MassArray Version: 1.63.0 Command: /Library/Frameworks/R.framework/Resources/bin/R CMD build --keep-empty-dirs --no-resave-data MassArray StartedAt: 2025-11-14 16:50:20 -0500 (Fri, 14 Nov 2025) EndedAt: 2025-11-14 16:50:31 -0500 (Fri, 14 Nov 2025) EllapsedTime: 11.1 seconds RetCode: 0 Status: OK PackageFile: MassArray_1.63.0.tar.gz PackageFileSize: 375.1 KiB