Package: MassArray Version: 1.63.0 Command: rm -rf MassArray.buildbin-libdir && mkdir MassArray.buildbin-libdir && /Users/biocbuild/BBS/utils/build-universal.sh MassArray_1.63.0.tar.gz /Library/Frameworks/R.framework/Resources/bin/R MassArray.buildbin-libdir StartedAt: 2025-11-14 23:39:01 -0500 (Fri, 14 Nov 2025) EndedAt: 2025-11-14 23:39:04 -0500 (Fri, 14 Nov 2025) EllapsedTime: 3.1 seconds RetCode: 0 Status: OK PackageFile: MassArray_1.63.0.tgz PackageFileSize: 653.4 KiB