Package: MassArray Version: 1.63.0 Maintainer: Reid F. Thompson MaintainerEmail: reid.thompson at gmail.com git_url: https://git.bioconductor.org/packages/MassArray git_branch: devel git_last_commit: 4b22465 git_last_commit_date: 2025-10-29 10:04:26 -0500 (Wed, 29 Oct 2025)