Package: MantelCorr Version: 1.81.0 Command: /home/biocbuild/bbs-3.23-bioc/R/bin/R CMD INSTALL MantelCorr StartedAt: 2025-11-14 15:03:07 -0500 (Fri, 14 Nov 2025) EndedAt: 2025-11-14 15:03:15 -0500 (Fri, 14 Nov 2025) EllapsedTime: 7.6 seconds RetCode: 0 Status: OK