Package: MantelCorr Version: 1.81.0 Command: /home/biocbuild/bbs-3.23-bioc/R/bin/R CMD build --keep-empty-dirs --no-resave-data MantelCorr StartedAt: 2025-11-14 18:24:26 -0500 (Fri, 14 Nov 2025) EndedAt: 2025-11-14 18:24:35 -0500 (Fri, 14 Nov 2025) EllapsedTime: 9.0 seconds RetCode: 0 Status: OK PackageFile: MantelCorr_1.81.0.tar.gz PackageFileSize: 937.7 KiB