Package: MantelCorr Version: 1.81.0 Command: /Library/Frameworks/R.framework/Resources/bin/R CMD build --keep-empty-dirs --no-resave-data MantelCorr StartedAt: 2025-11-13 16:52:40 -0500 (Thu, 13 Nov 2025) EndedAt: 2025-11-13 16:52:46 -0500 (Thu, 13 Nov 2025) EllapsedTime: 6.1 seconds RetCode: 0 Status: OK PackageFile: MantelCorr_1.81.0.tar.gz PackageFileSize: 937.8 KiB