Package: MantelCorr Version: 1.81.0 Command: rm -rf MantelCorr.buildbin-libdir && mkdir MantelCorr.buildbin-libdir && /Users/biocbuild/BBS/utils/build-universal.sh MantelCorr_1.81.0.tar.gz /Library/Frameworks/R.framework/Resources/bin/R MantelCorr.buildbin-libdir StartedAt: 2025-11-13 23:43:44 -0500 (Thu, 13 Nov 2025) EndedAt: 2025-11-13 23:43:46 -0500 (Thu, 13 Nov 2025) EllapsedTime: 2.0 seconds RetCode: 0 Status: OK PackageFile: MantelCorr_1.81.0.tgz PackageFileSize: 748.8 KiB