Package: MantelCorr Version: 1.81.0 Maintainer: Brian Steinmeyer MaintainerEmail: steinmeb at ilya.wustl.edu git_url: https://git.bioconductor.org/packages/MantelCorr git_branch: devel git_last_commit: 1950492 git_last_commit_date: 2025-10-29 09:57:17 -0500 (Wed, 29 Oct 2025)