Package: Macarron Version: 1.15.0 Command: /home/biocbuild/bbs-3.23-bioc/R/bin/R CMD INSTALL Macarron StartedAt: 2025-11-14 15:45:32 -0500 (Fri, 14 Nov 2025) EndedAt: 2025-11-14 15:45:51 -0500 (Fri, 14 Nov 2025) EllapsedTime: 19.8 seconds RetCode: 0 Status: OK