Package: Macarron Version: 1.15.0 Command: /home/biocbuild/bbs-3.23-bioc/R/bin/R CMD build --keep-empty-dirs --no-resave-data Macarron StartedAt: 2025-11-14 18:22:44 -0500 (Fri, 14 Nov 2025) EndedAt: 2025-11-14 18:28:53 -0500 (Fri, 14 Nov 2025) EllapsedTime: 369.3 seconds RetCode: 1 Status: ERROR PackageFile: None PackageFileSize: NA