Package: Macarron Version: 1.15.0 Command: /Library/Frameworks/R.framework/Resources/bin/R CMD INSTALL Macarron StartedAt: 2025-11-13 15:27:15 -0500 (Thu, 13 Nov 2025) EndedAt: 2025-11-13 15:27:24 -0500 (Thu, 13 Nov 2025) EllapsedTime: 9.0 seconds RetCode: 0 Status: OK