Package: Macarron Version: 1.15.0 Command: /Library/Frameworks/R.framework/Resources/bin/R CMD build --keep-empty-dirs --no-resave-data Macarron StartedAt: 2025-11-13 16:51:57 -0500 (Thu, 13 Nov 2025) EndedAt: 2025-11-13 16:54:04 -0500 (Thu, 13 Nov 2025) EllapsedTime: 127.5 seconds RetCode: 1 Status: ERROR PackageFile: None PackageFileSize: NA