Package: Macarron Version: 1.15.0 Maintainer: Sagun Maharjan MaintainerEmail: sagunmaharjann at gmail.com git_url: https://git.bioconductor.org/packages/Macarron git_branch: devel git_last_commit: 5c433e2 git_last_commit_date: 2025-10-29 11:16:43 -0500 (Wed, 29 Oct 2025)