Package: MWASTools Version: 1.35.0 Command: /Library/Frameworks/R.framework/Resources/bin/R CMD INSTALL MWASTools StartedAt: 2025-11-12 15:28:09 -0500 (Wed, 12 Nov 2025) EndedAt: 2025-11-12 15:28:22 -0500 (Wed, 12 Nov 2025) EllapsedTime: 13.1 seconds RetCode: 0 Status: OK