Package: MWASTools Version: 1.35.0 Command: /Library/Frameworks/R.framework/Resources/bin/R CMD build --keep-empty-dirs --no-resave-data MWASTools StartedAt: 2025-11-13 17:10:30 -0500 (Thu, 13 Nov 2025) EndedAt: 2025-11-13 17:11:08 -0500 (Thu, 13 Nov 2025) EllapsedTime: 37.4 seconds RetCode: 0 Status: OK PackageFile: MWASTools_1.35.0.tar.gz PackageFileSize: 2.106 MiB