Package: MWASTools Version: 1.35.0 Maintainer: Andrea Rodriguez-Martinez , Rafael Ayala MaintainerEmail: rafael.ayala at oist.jp git_url: https://git.bioconductor.org/packages/MWASTools git_branch: devel git_last_commit: 8cc5c70 git_last_commit_date: 2025-10-29 10:35:43 -0500 (Wed, 29 Oct 2025)