Package: MVCClass Version: 1.85.0 Command: /home/biocbuild/bbs-3.23-bioc/R/bin/R CMD INSTALL MVCClass StartedAt: 2025-11-11 15:09:33 -0500 (Tue, 11 Nov 2025) EndedAt: 2025-11-11 15:09:48 -0500 (Tue, 11 Nov 2025) EllapsedTime: 14.8 seconds RetCode: 0 Status: OK