Package: MVCClass Version: 1.85.0 Command: /Library/Frameworks/R.framework/Resources/bin/R CMD INSTALL MVCClass StartedAt: 2025-11-12 15:17:56 -0500 (Wed, 12 Nov 2025) EndedAt: 2025-11-12 15:18:07 -0500 (Wed, 12 Nov 2025) EllapsedTime: 10.4 seconds RetCode: 0 Status: OK