Package: MVCClass Version: 1.85.0 Command: rm -rf MVCClass.buildbin-libdir && mkdir MVCClass.buildbin-libdir && /Users/biocbuild/BBS/utils/build-universal.sh MVCClass_1.85.0.tar.gz /Library/Frameworks/R.framework/Resources/bin/R MVCClass.buildbin-libdir StartedAt: 2025-11-13 23:47:58 -0500 (Thu, 13 Nov 2025) EndedAt: 2025-11-13 23:48:01 -0500 (Thu, 13 Nov 2025) EllapsedTime: 3.0 seconds RetCode: 0 Status: OK PackageFile: MVCClass_1.85.0.tgz PackageFileSize: 1.23 MiB