Package: MSstatsTMT Version: 2.19.0 Command: /home/biocbuild/bbs-3.23-bioc/R/bin/R CMD INSTALL MSstatsTMT StartedAt: 2025-11-14 15:13:13 -0500 (Fri, 14 Nov 2025) EndedAt: 2025-11-14 15:13:25 -0500 (Fri, 14 Nov 2025) EllapsedTime: 12.4 seconds RetCode: 0 Status: OK