Package: MSstatsTMT Version: 2.19.0 Command: /home/biocbuild/bbs-3.23-bioc/R/bin/R CMD build --keep-empty-dirs --no-resave-data MSstatsTMT StartedAt: 2025-11-13 18:53:57 -0500 (Thu, 13 Nov 2025) EndedAt: 2025-11-13 18:54:52 -0500 (Thu, 13 Nov 2025) EllapsedTime: 55.1 seconds RetCode: 0 Status: OK PackageFile: MSstatsTMT_2.19.0.tar.gz PackageFileSize: 1.531 MiB