Package: MSstatsTMT Version: 2.19.0 Command: /Library/Frameworks/R.framework/Resources/bin/R CMD build --keep-empty-dirs --no-resave-data MSstatsTMT StartedAt: 2025-11-12 16:48:02 -0500 (Wed, 12 Nov 2025) EndedAt: 2025-11-12 16:48:24 -0500 (Wed, 12 Nov 2025) EllapsedTime: 22.3 seconds RetCode: 0 Status: OK PackageFile: MSstatsTMT_2.19.0.tar.gz PackageFileSize: 1.531 MiB