Package: MSstatsTMT Version: 2.19.0 Maintainer: Devon Kohler MaintainerEmail: kohler.d at northeastern.edu git_url: https://git.bioconductor.org/packages/MSstatsTMT git_branch: devel git_last_commit: f287ad0 git_last_commit_date: 2025-10-29 10:48:02 -0500 (Wed, 29 Oct 2025)